Workbook
Name Title_data_elements..D68: 'Normes et règles'!$A$19:$D$68
Name Title_Rapport..Q500: 'Rapport de contenu musical'!$A$21:$Q$500

Sheet À lire en premier
A1: Instructions
A2: Utilisez Microsoft Excel, sous Windows ou macOS, pour utiliser ce rapport de contenu musical (n’essayez pas de le compléter à l’aide d’un navigateur). Si vous utilisez un lecteur d’écran, utilisez NVDA ou JAWS sous Windows pour une accessibilité optimale. Voici comment :
A3: 1 de 4. Ce manuel comporte trois autres feuilles de travail que la feuille de travail À lire d’abord : la feuille de travail Rapport de contenu musical dans laquelle vous saisissez vos données, suivie de conseils supplémentaires dans la feuille de travail Normes et règles des rapports de contenu musical.
A4: 2 de 4. Si, sous Windows, vous voyez le message « Risque de sécurité : Microsoft a bloqué l’exécution des macros parce que le fichier source n’est pas fiable », allez dans l’explorateur Windows, localisez ce fichier, faites un clic droit sur le fichier, choisissez Propriétés, puis cochez la case Débloquer dans l’onglet Général.
A5: 3 de 4. Dans la feuille de travail « Rapport de contenu musical », remplissez tous les champs de saisie pertinents. Les champs obligatoires sont indiqués par un astérisque (*).
A6: 4 de 4. Sauvegardez le fichier et le tour est joué.
A7: Fin de la feuille de travail

Sheet Rapport de contenu musical
A1: Rapport de contenu musical SOCAN (Les champs marqués d’un astérisque (*) sont obligatoires)
A2: Sauvegardez une copie du rapport de contenu musical harmonisé sur votre bureau local Note importante : ne mettez pas à jour ce rapport de contenu musical à partir de votre navigateur car les fonctions y sont limitées
A4: Classification de rapports de contenu musical :* | F4: Titre de la production :*
A5: Type de production :* | F5: Autres titres de la production :
A6: Catégorie de production :* | F6: Titre de l’épisode :
A7: Date de soumission/Date de révision :* | F7: Autres titres de l’épisode :
A8: Première date de parution :
A9: Commentaire sur la version : | F9: Pays de production 1 :*
A10: Territoire/pays de la version : | F10: Pays de production 2 :
A11: Territoire de première diffusion : | F11: Pays de production 3 : | L11: Légende
A12: Langue : | F12: Source de l’identifiant AV :
A13: Réseau/Station : | F13: Rôle du fournisseur du rapport de contenu musical :
A14: Année de production :* | F14: Rôle de la partie AV intéressée 1 :
A15: Durée de la production :* | F15: Nom de la partie AV intéressée 1 :
A16: Durée totale de la musique : | F16: Rôle de la partie AV intéressée 2 :
A17: Numéro de saison : | F17: Nom de la partie AV intéressée 2 : | L17: Les champs marqués d’un astérisque (*) sont obligatoires
A18: Numéro de l’épisode : | F18: Rôle de la partie AV intéressée 3 : | L18: Les cellules avec une liste déroulante sont également surlignées en orange.
F19: Nom de la partie AV intéressée 3 :
A21: # de séq. | B21: Titre de la musique * | C21: Utilisation de la musique * | D21: Début | E21: Fin | F21: Durée de la musique * (HH:MM:SS) | G21: Durée calculée de la musique (HH:MM:SS) | H21: ISWC | I21: ISRC | J21: Interprètes | K21: Source de la musique * | L21: Rôle de la partie musicale intéressée * | M21: Nom de la partie musicale intéressée* | N21: Société d’affiliation | O21: Numéro IPI | Q21: % de parts de la partie musicale intéressée | U21: HR | V21: MM | W21: SS | X21: Time Out - Time In SS | AB21: Time Out SS | AC21: Time IN | AD21: Time Out | AE21: HH | AF21: MM | AG21: SS | AH21: Duration | AI21: Duration SS | XFD21: Société aux États-Unis
G22: =IF(X22<>"",AH22,0) -> 00:00:00 | P22: =VLOOKUP(N22,CisacSocietycodes!$A$2:$C$366,2,0) -> #N/A | R22: 0 | S22: 0 | T22: 0 | U22: =LEFT((TEXT(AC22, "000000")), 2) -> 00 | V22: =RIGHT(LEFT((TEXT(AC22, "000000")), 4), 2) -> 00 | W22: =TEXT((ROUND(RIGHT((TEXT(AC22, "000000")), 2), 2)), "00") -> 00 | X22: =((Y22 * 3600) + (Z22 * 60 )+( AA22 )) - ((U22 * 3600) + (V22 * 60 )+( W22 )) -> 0 | Y22: =LEFT((TEXT(AD22, "000000")), 2) -> 00 | Z22: =RIGHT(LEFT((TEXT(AD22, "000000")), 4), 2) -> 00 | AA22: =TEXT((ROUND(RIGHT((TEXT(AD22, "000000")), 2), 2)), "00") -> 00 | AB22: =(Y22 * 3600) + (Z22 * 60 )+( AA22 ) -> 0 | AC22: =IF(F22<>"",0,D22) -> 0 | AD22: =IF(F22<>"",F22,E22) -> 0 | AE22: =ROUNDDOWN((X22/ 3600), 0) -> 0 | AF22: =ROUNDDOWN((((X22 / 3600) - AE22) * 60), 0) -> 0 | AG22: =((X22) / 60) - (TEXT(ROUNDDOWN((X22 / 60), 0), "00")) -> 0 | AH22: =(TEXT(AE22, "00")) & ":" & (TEXT(AF22, "00")) & ":" & (TEXT((AG22) * 60, "00")) -> 00:00:00 | AI22: =X22 -> 0
G23: =IF(X23<>"",AH23,0) -> 00:00:00 | P23: =VLOOKUP(N23,CisacSocietycodes!$A$2:$C$366,2,0) -> #N/A | R23: 0 | S23: 0 | T23: 0 | U23: =LEFT((TEXT(AC23, "000000")), 2) -> 00 | V23: =RIGHT(LEFT((TEXT(AC23, "000000")), 4), 2) -> 00 | W23: =TEXT((ROUND(RIGHT((TEXT(AC23, "000000")), 2), 2)), "00") -> 00 | X23: =((Y23 * 3600) + (Z23 * 60 )+( AA23 )) - ((U23 * 3600) + (V23 * 60 )+( W23 )) -> 0 | Y23: =LEFT((TEXT(AD23, "000000")), 2) -> 00 | Z23: =RIGHT(LEFT((TEXT(AD23, "000000")), 4), 2) -> 00 | AA23: =TEXT((ROUND(RIGHT((TEXT(AD23, "000000")), 2), 2)), "00") -> 00 | AB23: =(Y23 * 3600) + (Z23 * 60 )+( AA23 ) -> 0 | AC23: =IF(F23<>"",0,D23) -> 0 | AD23: =IF(F23<>"",F23,E23) -> 0 | AE23: =ROUNDDOWN((X23/ 3600), 0) -> 0 | AF23: =ROUNDDOWN((((X23 / 3600) - AE23) * 60), 0) -> 0 | AG23: =((X23) / 60) - (TEXT(ROUNDDOWN((X23 / 60), 0), "00")) -> 0 | AH23: =(TEXT(AE23, "00")) & ":" & (TEXT(AF23, "00")) & ":" & (TEXT((AG23) * 60, "00")) -> 00:00:00 | AI23: =X23 -> 0
G24: =IF(X24<>"",AH24,0) -> 00:00:00 | P24: =VLOOKUP(N24,CisacSocietycodes!$A$2:$C$366,2,0) -> #N/A | R24: 0 | S24: 0 | T24: 0 | U24: =LEFT((TEXT(AC24, "000000")), 2) -> 00 | V24: =RIGHT(LEFT((TEXT(AC24, "000000")), 4), 2) -> 00 | W24: =TEXT((ROUND(RIGHT((TEXT(AC24, "000000")), 2), 2)), "00") -> 00 | X24: =((Y24 * 3600) + (Z24 * 60 )+( AA24 )) - ((U24 * 3600) + (V24 * 60 )+( W24 )) -> 0 | Y24: =LEFT((TEXT(AD24, "000000")), 2) -> 00 | Z24: =RIGHT(LEFT((TEXT(AD24, "000000")), 4), 2) -> 00 | AA24: =TEXT((ROUND(RIGHT((TEXT(AD24, "000000")), 2), 2)), "00") -> 00 | AB24: =(Y24 * 3600) + (Z24 * 60 )+( AA24 ) -> 0 | AC24: =IF(F24<>"",0,D24) -> 0 | AD24: =IF(F24<>"",F24,E24) -> 0 | AE24: =ROUNDDOWN((X24/ 3600), 0) -> 0 | AF24: =ROUNDDOWN((((X24 / 3600) - AE24) * 60), 0) -> 0 | AG24: =((X24) / 60) - (TEXT(ROUNDDOWN((X24 / 60), 0), "00")) -> 0 | AH24: =(TEXT(AE24, "00")) & ":" & (TEXT(AF24, "00")) & ":" & (TEXT((AG24) * 60, "00")) -> 00:00:00 | AI24: =X24 -> 0
G25: =IF(X25<>"",AH25,0) -> 00:00:00 | P25: =VLOOKUP(N25,CisacSocietycodes!$A$2:$C$366,2,0) -> #N/A | R25: 0 | S25: 0 | T25: 0 | U25: =LEFT((TEXT(AC25, "000000")), 2) -> 00 | V25: =RIGHT(LEFT((TEXT(AC25, "000000")), 4), 2) -> 00 | W25: =TEXT((ROUND(RIGHT((TEXT(AC25, "000000")), 2), 2)), "00") -> 00 | X25: =((Y25 * 3600) + (Z25 * 60 )+( AA25 )) - ((U25 * 3600) + (V25 * 60 )+( W25 )) -> 0 | Y25: =LEFT((TEXT(AD25, "000000")), 2) -> 00 | Z25: =RIGHT(LEFT((TEXT(AD25, "000000")), 4), 2) -> 00 | AA25: =TEXT((ROUND(RIGHT((TEXT(AD25, "000000")), 2), 2)), "00") -> 00 | AB25: =(Y25 * 3600) + (Z25 * 60 )+( AA25 ) -> 0 | AC25: =IF(F25<>"",0,D25) -> 0 | AD25: =IF(F25<>"",F25,E25) -> 0 | AE25: =ROUNDDOWN((X25/ 3600), 0) -> 0 | AF25: =ROUNDDOWN((((X25 / 3600) - AE25) * 60), 0) -> 0 | AG25: =((X25) / 60) - (TEXT(ROUNDDOWN((X25 / 60), 0), "00")) -> 0 | AH25: =(TEXT(AE25, "00")) & ":" & (TEXT(AF25, "00")) & ":" & (TEXT((AG25) * 60, "00")) -> 00:00:00 | AI25: =X25 -> 0
G26: =IF(X26<>"",AH26,0) -> 00:00:00 | P26: =VLOOKUP(N26,CisacSocietycodes!$A$2:$C$366,2,0) -> #N/A | R26: 0 | S26: 0 | T26: 0 | U26: =LEFT((TEXT(AC26, "000000")), 2) -> 00 | V26: =RIGHT(LEFT((TEXT(AC26, "000000")), 4), 2) -> 00 | W26: =TEXT((ROUND(RIGHT((TEXT(AC26, "000000")), 2), 2)), "00") -> 00 | X26: =((Y26 * 3600) + (Z26 * 60 )+( AA26 )) - ((U26 * 3600) + (V26 * 60 )+( W26 )) -> 0 | Y26: =LEFT((TEXT(AD26, "000000")), 2) -> 00 | Z26: =RIGHT(LEFT((TEXT(AD26, "000000")), 4), 2) -> 00 | AA26: =TEXT((ROUND(RIGHT((TEXT(AD26, "000000")), 2), 2)), "00") -> 00 | AB26: =(Y26 * 3600) + (Z26 * 60 )+( AA26 ) -> 0 | AC26: =IF(F26<>"",0,D26) -> 0 | AD26: =IF(F26<>"",F26,E26) -> 0 | AE26: =ROUNDDOWN((X26/ 3600), 0) -> 0 | AF26: =ROUNDDOWN((((X26 / 3600) - AE26) * 60), 0) -> 0 | AG26: =((X26) / 60) - (TEXT(ROUNDDOWN((X26 / 60), 0), "00")) -> 0 | AH26: =(TEXT(AE26, "00")) & ":" & (TEXT(AF26, "00")) & ":" & (TEXT((AG26) * 60, "00")) -> 00:00:00 | AI26: =X26 -> 0
G27: =IF(X27<>"",AH27,0) -> 00:00:00 | P27: =VLOOKUP(N27,CisacSocietycodes!$A$2:$C$366,2,0) -> #N/A | R27: 0 | S27: 0 | T27: 0 | U27: =LEFT((TEXT(AC27, "000000")), 2) -> 00 | V27: =RIGHT(LEFT((TEXT(AC27, "000000")), 4), 2) -> 00 | W27: =TEXT((ROUND(RIGHT((TEXT(AC27, "000000")), 2), 2)), "00") -> 00 | X27: =((Y27 * 3600) + (Z27 * 60 )+( AA27 )) - ((U27 * 3600) + (V27 * 60 )+( W27 )) -> 0 | Y27: =LEFT((TEXT(AD27, "000000")), 2) -> 00 | Z27: =RIGHT(LEFT((TEXT(AD27, "000000")), 4), 2) -> 00 | AA27: =TEXT((ROUND(RIGHT((TEXT(AD27, "000000")), 2), 2)), "00") -> 00 | AB27: =(Y27 * 3600) + (Z27 * 60 )+( AA27 ) -> 0 | AC27: =IF(F27<>"",0,D27) -> 0 | AD27: =IF(F27<>"",F27,E27) -> 0 | AE27: =ROUNDDOWN((X27/ 3600), 0) -> 0 | AF27: =ROUNDDOWN((((X27 / 3600) - AE27) * 60), 0) -> 0 | AG27: =((X27) / 60) - (TEXT(ROUNDDOWN((X27 / 60), 0), "00")) -> 0 | AH27: =(TEXT(AE27, "00")) & ":" & (TEXT(AF27, "00")) & ":" & (TEXT((AG27) * 60, "00")) -> 00:00:00 | AI27: =X27 -> 0
G28: =IF(X28<>"",AH28,0) -> 00:00:00 | P28: =VLOOKUP(N28,CisacSocietycodes!$A$2:$C$366,2,0) -> #N/A | R28: 0 | S28: 0 | T28: 0 | U28: =LEFT((TEXT(AC28, "000000")), 2) -> 00 | V28: =RIGHT(LEFT((TEXT(AC28, "000000")), 4), 2) -> 00 | W28: =TEXT((ROUND(RIGHT((TEXT(AC28, "000000")), 2), 2)), "00") -> 00 | X28: =((Y28 * 3600) + (Z28 * 60 )+( AA28 )) - ((U28 * 3600) + (V28 * 60 )+( W28 )) -> 0 | Y28: =LEFT((TEXT(AD28, "000000")), 2) -> 00 | Z28: =RIGHT(LEFT((TEXT(AD28, "000000")), 4), 2) -> 00 | AA28: =TEXT((ROUND(RIGHT((TEXT(AD28, "000000")), 2), 2)), "00") -> 00 | AB28: =(Y28 * 3600) + (Z28 * 60 )+( AA28 ) -> 0 | AC28: =IF(F28<>"",0,D28) -> 0 | AD28: =IF(F28<>"",F28,E28) -> 0 | AE28: =ROUNDDOWN((X28/ 3600), 0) -> 0 | AF28: =ROUNDDOWN((((X28 / 3600) - AE28) * 60), 0) -> 0 | AG28: =((X28) / 60) - (TEXT(ROUNDDOWN((X28 / 60), 0), "00")) -> 0 | AH28: =(TEXT(AE28, "00")) & ":" & (TEXT(AF28, "00")) & ":" & (TEXT((AG28) * 60, "00")) -> 00:00:00 | AI28: =X28 -> 0
G29: =IF(X29<>"",AH29,0) -> 00:00:00 | P29: =VLOOKUP(N29,CisacSocietycodes!$A$2:$C$366,2,0) -> #N/A | R29: 0 | S29: 0 | T29: 0 | U29: =LEFT((TEXT(AC29, "000000")), 2) -> 00 | V29: =RIGHT(LEFT((TEXT(AC29, "000000")), 4), 2) -> 00 | W29: =TEXT((ROUND(RIGHT((TEXT(AC29, "000000")), 2), 2)), "00") -> 00 | X29: =((Y29 * 3600) + (Z29 * 60 )+( AA29 )) - ((U29 * 3600) + (V29 * 60 )+( W29 )) -> 0 | Y29: =LEFT((TEXT(AD29, "000000")), 2) -> 00 | Z29: =RIGHT(LEFT((TEXT(AD29, "000000")), 4), 2) -> 00 | AA29: =TEXT((ROUND(RIGHT((TEXT(AD29, "000000")), 2), 2)), "00") -> 00 | AB29: =(Y29 * 3600) + (Z29 * 60 )+( AA29 ) -> 0 | AC29: =IF(F29<>"",0,D29) -> 0 | AD29: =IF(F29<>"",F29,E29) -> 0 | AE29: =ROUNDDOWN((X29/ 3600), 0) -> 0 | AF29: =ROUNDDOWN((((X29 / 3600) - AE29) * 60), 0) -> 0 | AG29: =((X29) / 60) - (TEXT(ROUNDDOWN((X29 / 60), 0), "00")) -> 0 | AH29: =(TEXT(AE29, "00")) & ":" & (TEXT(AF29, "00")) & ":" & (TEXT((AG29) * 60, "00")) -> 00:00:00 | AI29: =X29 -> 0
G30: =IF(X30<>"",AH30,0) -> 00:00:00 | P30: =VLOOKUP(N30,CisacSocietycodes!$A$2:$C$366,2,0) -> #N/A | R30: 0 | S30: 0 | T30: 0 | U30: =LEFT((TEXT(AC30, "000000")), 2) -> 00 | V30: =RIGHT(LEFT((TEXT(AC30, "000000")), 4), 2) -> 00 | W30: =TEXT((ROUND(RIGHT((TEXT(AC30, "000000")), 2), 2)), "00") -> 00 | X30: =((Y30 * 3600) + (Z30 * 60 )+( AA30 )) - ((U30 * 3600) + (V30 * 60 )+( W30 )) -> 0 | Y30: =LEFT((TEXT(AD30, "000000")), 2) -> 00 | Z30: =RIGHT(LEFT((TEXT(AD30, "000000")), 4), 2) -> 00 | AA30: =TEXT((ROUND(RIGHT((TEXT(AD30, "000000")), 2), 2)), "00") -> 00 | AB30: =(Y30 * 3600) + (Z30 * 60 )+( AA30 ) -> 0 | AC30: =IF(F30<>"",0,D30) -> 0 | AD30: =IF(F30<>"",F30,E30) -> 0 | AE30: =ROUNDDOWN((X30/ 3600), 0) -> 0 | AF30: =ROUNDDOWN((((X30 / 3600) - AE30) * 60), 0) -> 0 | AG30: =((X30) / 60) - (TEXT(ROUNDDOWN((X30 / 60), 0), "00")) -> 0 | AH30: =(TEXT(AE30, "00")) & ":" & (TEXT(AF30, "00")) & ":" & (TEXT((AG30) * 60, "00")) -> 00:00:00 | AI30: =X30 -> 0
G31: =IF(X31<>"",AH31,0) -> 00:00:00 | P31: =VLOOKUP(N31,CisacSocietycodes!$A$2:$C$366,2,0) -> #N/A | R31: 0 | S31: 0 | T31: 0 | U31: =LEFT((TEXT(AC31, "000000")), 2) -> 00 | V31: =RIGHT(LEFT((TEXT(AC31, "000000")), 4), 2) -> 00 | W31: =TEXT((ROUND(RIGHT((TEXT(AC31, "000000")), 2), 2)), "00") -> 00 | X31: =((Y31 * 3600) + (Z31 * 60 )+( AA31 )) - ((U31 * 3600) + (V31 * 60 )+( W31 )) -> 0 | Y31: =LEFT((TEXT(AD31, "000000")), 2) -> 00 | Z31: =RIGHT(LEFT((TEXT(AD31, "000000")), 4), 2) -> 00 | AA31: =TEXT((ROUND(RIGHT((TEXT(AD31, "000000")), 2), 2)), "00") -> 00 | AB31: =(Y31 * 3600) + (Z31 * 60 )+( AA31 ) -> 0 | AC31: =IF(F31<>"",0,D31) -> 0 | AD31: =IF(F31<>"",F31,E31) -> 0 | AE31: =ROUNDDOWN((X31/ 3600), 0) -> 0 | AF31: =ROUNDDOWN((((X31 / 3600) - AE31) * 60), 0) -> 0 | AG31: =((X31) / 60) - (TEXT(ROUNDDOWN((X31 / 60), 0), "00")) -> 0 | AH31: =(TEXT(AE31, "00")) & ":" & (TEXT(AF31, "00")) & ":" & (TEXT((AG31) * 60, "00")) -> 00:00:00 | AI31: =X31 -> 0
G32: =IF(X32<>"",AH32,0) -> 00:00:00 | P32: =VLOOKUP(N32,CisacSocietycodes!$A$2:$C$366,2,0) -> #N/A | R32: 0 | S32: 0 | T32: 0 | U32: =LEFT((TEXT(AC32, "000000")), 2) -> 00 | V32: =RIGHT(LEFT((TEXT(AC32, "000000")), 4), 2) -> 00 | W32: =TEXT((ROUND(RIGHT((TEXT(AC32, "000000")), 2), 2)), "00") -> 00 | X32: =((Y32 * 3600) + (Z32 * 60 )+( AA32 )) - ((U32 * 3600) + (V32 * 60 )+( W32 )) -> 0 | Y32: =LEFT((TEXT(AD32, "000000")), 2) -> 00 | Z32: =RIGHT(LEFT((TEXT(AD32, "000000")), 4), 2) -> 00 | AA32: =TEXT((ROUND(RIGHT((TEXT(AD32, "000000")), 2), 2)), "00") -> 00 | AB32: =(Y32 * 3600) + (Z32 * 60 )+( AA32 ) -> 0 | AC32: =IF(F32<>"",0,D32) -> 0 | AD32: =IF(F32<>"",F32,E32) -> 0 | AE32: =ROUNDDOWN((X32/ 3600), 0) -> 0 | AF32: =ROUNDDOWN((((X32 / 3600) - AE32) * 60), 0) -> 0 | AG32: =((X32) / 60) - (TEXT(ROUNDDOWN((X32 / 60), 0), "00")) -> 0 | AH32: =(TEXT(AE32, "00")) & ":" & (TEXT(AF32, "00")) & ":" & (TEXT((AG32) * 60, "00")) -> 00:00:00 | AI32: =X32 -> 0
G33: =IF(X33<>"",AH33,0) -> 00:00:00 | P33: =VLOOKUP(N33,CisacSocietycodes!$A$2:$C$366,2,0) -> #N/A | R33: 0 | S33: 0 | T33: 0 | U33: =LEFT((TEXT(AC33, "000000")), 2) -> 00 | V33: =RIGHT(LEFT((TEXT(AC33, "000000")), 4), 2) -> 00 | W33: =TEXT((ROUND(RIGHT((TEXT(AC33, "000000")), 2), 2)), "00") -> 00 | X33: =((Y33 * 3600) + (Z33 * 60 )+( AA33 )) - ((U33 * 3600) + (V33 * 60 )+( W33 )) -> 0 | Y33: =LEFT((TEXT(AD33, "000000")), 2) -> 00 | Z33: =RIGHT(LEFT((TEXT(AD33, "000000")), 4), 2) -> 00 | AA33: =TEXT((ROUND(RIGHT((TEXT(AD33, "000000")), 2), 2)), "00") -> 00 | AB33: =(Y33 * 3600) + (Z33 * 60 )+( AA33 ) -> 0 | AC33: =IF(F33<>"",0,D33) -> 0 | AD33: =IF(F33<>"",F33,E33) -> 0 | AE33: =ROUNDDOWN((X33/ 3600), 0) -> 0 | AF33: =ROUNDDOWN((((X33 / 3600) - AE33) * 60), 0) -> 0 | AG33: =((X33) / 60) - (TEXT(ROUNDDOWN((X33 / 60), 0), "00")) -> 0 | AH33: =(TEXT(AE33, "00")) & ":" & (TEXT(AF33, "00")) & ":" & (TEXT((AG33) * 60, "00")) -> 00:00:00 | AI33: =X33 -> 0
... G500: =IF(X500<>"",AH500,0) -> 00:00:00 | P500: =VLOOKUP(N500,CisacSocietycodes!$A$2:$C$366,2,0) -> #N/A | R500: 0 | S500: 0 | T500: 0 | U500: =LEFT((TEXT(AC500, "000000")), 2) -> 00 | V500: =RIGHT(LEFT((TEXT(AC500, "000000")), 4), 2) -> 00 | W500: =TEXT((ROUND(RIGHT((TEXT(AC500, "000000")), 2), 2)), "00") -> 00 | X500: =((Y500 * 3600) + (Z500 * 60 )+( AA500 )) - ((U500 * 3600) + (V500 * 60 )+( W500 )) -> 0 | Y500: =LEFT((TEXT(AD500, "000000")), 2) -> 00 | Z500: =RIGHT(LEFT((TEXT(AD500, "000000")), 4), 2) -> 00 | AA500: =TEXT((ROUND(RIGHT((TEXT(AD500, "000000")), 2), 2)), "00") -> 00 | AB500: =(Y500 * 3600) + (Z500 * 60 )+( AA500 ) -> 0 | AC500: =IF(F500<>"",0,D500) -> 0 | AD500: =IF(F500<>"",F500,E500) -> 0 | AE500: =ROUNDDOWN((X500/ 3600), 0) -> 0 | AF500: =ROUNDDOWN((((X500 / 3600) - AE500) * 60), 0) -> 0 | AG500: =((X500) / 60) - (TEXT(ROUNDDOWN((X500 / 60), 0), "00")) -> 0 | AH500: =(TEXT(AE500, "00")) & ":" & (TEXT(AF500, "00")) & ":" & (TEXT((AG500) * 60, "00")) -> 00:00:00 | AI500: =X500 -> 0
G501: =(SUM(G22:G500)) -> 0 | R501: 920 | T501: 0 | U501: 0 | V501: 0 | W501: 00 | X501: 00 | AC501: 00 | AE501: 0 | AF501: 0 | AG501: 0 | AH501: 0 | AI501: 0
U502: =LEFT((TEXT(AC502, "000000")), 2) -> 00 | V502: =RIGHT(LEFT((TEXT(AC502, "000000")), 4), 2) -> 00 | W502: =TEXT((ROUND(RIGHT((TEXT(AC502, "000000")), 2), 2)), "00") -> 00 | X502: =SUM(X22:X501) -> 0 | AC502: =SUM(AC22:AC501) -> 0 | AE502: =ROUNDDOWN((X502/ 3600), 0) -> 0 | AF502: =ROUNDDOWN((((X502 / 3600) - AE502) * 60), 0) -> 0 | AG502: =((X502) / 60) - (TEXT(ROUNDDOWN((X502 / 60), 0), "00")) -> 0 | AH502: =(TEXT(AE502, "00")) & ":" & (TEXT(AF502, "00")) & ":" & (TEXT((AG502) * 60, "00")) -> 00:00:00 | AI502: =SUM(AI22:AI501) -> 0

Sheet Menus déroulants et valeurs
A1: Menus déroulants et leurs valeurs associées du rapport de contenu musical harmonisé
A3: Section supérieure du rapport de contenu musical harmonisé
A5: Champ | B5: Valeurs du menu déroulant
A7: Classification de rapport de contenu musical | B7: Original
B8: Révision
B9: Ébauche
A11: Type de production | B11: Pas une série
B12: Série
A14: Catégorie de production | B14: Animation, dessin animé
B15: Publicités télé
B16: Documentaire
B17: Long métrage, film commercial, téléfilm, film
B18: Infopublicité, programme payant
B19: Minisérie
B20: Multimédia
B21: Nouvelles
B22: Unique, non série
B23: Autre
B24: Réalité
B25: Télésérie, série câblée
B26: Téléroman, Télévovela
... B29: Bandes-annonces
A31: Version | B31: Oui
B32: Non
A34: Catégorie de version | B34: 3-D
B35: Ligne aérienne
B36: Appli
B37: Noir et blanc
B38: Câble
B39: Couleur
B40: Version du réalisateur
B41: Fournisseur de service numérique
B42: Domestique
B43: Vidéo maison
B44: Internet
B45: International
B46: Long
... B57: Parc thématique
A59: Territoire/pays de la version | B59: CANADA
B60: ÉTATS-UNIS
...

Sheet CisacSocietycodes
A1: Society Acronym | B1: Society Code
A2: AACIMH | B2: 226
A3: AAS | B3: 253
A4: ABRAC | B4: 217
A5: ABRAMUS | B5: 201
A6: ABYROY | B6: 288
A7: ACAM | B7: 107
A8: ACCESS COPYRIGHT | B8: 210
A9: ACCS | B9: 306
A10: ACDAM | B10: 103
A11: ACEMLA | B11: 76
A12: ACS | B12: 260
A13: ACUM | B13: 1
... A366: ZIMURA | B366: 98

Sheet Guide de l’utilisateur
A1: Guide l’utilisateur
A2: Les champs marqués d’un astérisque (*) sont obligatoires
A3: Les cellules avec une liste déroulante sont également surlignées en orange.
A4: Notes
A5: Le numéro de séquence de chaque titre musical s’affiche automatiquement lorsque le titre musical est saisi. *NOTE* il n’est pas nécessaire d’ajouter le titre de la musique dans chaque ligne pour la même séquence d’œuvre/« cue » #
A6: La durée totale de la musique dans la partie supérieure du rapport de contenu musical est un champ libre et doit être saisie sous la forme HH:MM:SS.
A7: La durée calculée de la musique est automatiquement remplie en fonction des durées de la musique ajoutées au corps du rapport de contenu musical.
A8: La durée de la musique (colonne F) est un champ obligatoire.
A9: Il y a 2 façons de fournir ces informations obligatoires
A10: Option 1 : utiliser les champs Début et Fin des colonnes D et E. Si vous utilisez cette option, le champ Durée calculée de la musique de la colonne G se remplira automatiquement
A11: ou
A12: Option 2 : utiliser la durée de la musique dans la colonne F – si vous utilisez cette option, le champ Durée calculée de la musique de la colonne G se remplira aussi automatiquement
... A19: Fin de la feuille de travail

Sheet Normes et règles
A1: Terminologie des rapports de contenu musical
A2: Source de la musique
A3: Existant/Licencié/Indépendant : Une œuvre musicale qui existait avant la commande de la production AV, par exemple une chanson pop lancée commercialement.
A4: Musique de production/Musicothèque : La musique de production (également connue sous le nom de musique de bibliothèque ou musicothèque) comprend une œuvre musicale et un enregistrement sonore dont les droits sont regroupés pour une synchronisation ou un doublage sous licence dans des productions audio ou audiovisuelles (des publicités télévisées ou radio aux longs métrages).
A5: Oeuvres de commande: Oeuvre musicale originale de commande écrite spécifiquement pour une production audiovisuelle, (Terminologie parfois employée par le marché américain uniquement : score ou work-for-hire.)
A6: Utilisation de la musique
A7: Thème d'ouverture (ou principal) : désigne la musique qui identifie un programme, un film ou une série au début ou à l'intérieur du programme, du film ou de la série.
A8: Thème de fin (ou de fin) : musique qui identifie un programme, un film ou une série à la fin ou à l'intérieur du programme, du film ou de la série.
A9: Musique visuelle / de premier plan ou musique source : musique s’inscrivant dans l’une ou l’autre des catégories suivantes: (a) musique interprétée par un ou plusieurs personnages représentés à l’écran ou présentée comme parvenant aux oreilles d’un ou plusieurs personnages dans la scène présentée; (b) musique interprétée dans un vidéoclip (c) musique exécutée en rapport avec des séquences de danse chorégraphiée
A10: Musique de fond : Musique dramatique, musique de fond ou musique de partition s’entend de musique qui n’est ni un thème musical ni de la musique visuelle.
A11: Indicatif musical : musique qui identifie la société de production au début et/ou à la fin d'une émission de télévision, d'un film ou d'une série télévisée et qui n'est pas un thème.
A12: Type de droit
... A18: Éléments de données des rapports de contenu musical
A19: Libellé du champ | B19: Valeurs | C19: Condition O = obligatoire C = conditionnel F = faculatif | D19: Description
A20: Production
A21: Type de production | B21: Alphanumérique | C21: O | D21: Type d’œuvre AV, valeurs = F pour film/production unique ou S pour Série.
A22: Catégorie de production | B22: Alphanumérique | C22: O | D22: Type d’œuvre AV, genre, etc
A23: Titre de la production | B23: Alphanumérique | C23: O | D23: Titre de l’œuvre AV, du film, de la série ou de l’émission
A24: Titre de l’épisode | B24: Alphanumérique | C24: C | D24: Titre d’un épisode
A25: Numéro de l’épisode | B25: Alphanumérique | C25: C | D25: Numéro assigné à un épisode
A26: Numéro de la saison | B26: Alphanumérique | C26: F | D26: Numéro assigné à une saison
A27: Autres titres de la production | B27: Alphanumérique | C27: F | D27: Tout autre titre sous lequel le film, la série ou l’émission peut être connu incluant en langue étrangère
A28: Autres titres de l’épisode | B28: Alphanumérique | C28: F | D28: Tout autre titre sous lequel l’épisode peut être connu incluant en langue étrangère
A29: Langue | B29: Alphanumérique | C29: F | D29: Langue de la production
A30: Durée de la production | B30: Durée HHMMSS | C30: O | D30: Durée de l’œuvre AV, du programme/émission exprimée en heures, minutes et secondes
A31: Durée totale de la musique | B31: Durée HHMMSS | C31: F | D31: Durée totale de la musique jouée dans l’œuvre AV, le programme ou l’émission, exprimée en heures, minutes et secondes
A32: Version | B32: Oui/Non? | C32: F | D32: Indique s’il existe des versions différentes de la même œuvre AV, programme/émission
... A46: Territoire de première diffusion | B46: Alphanumérique | C46: F | D46: Territoire ou pays où la production a été diffusée la première fois
A47: Musique
A48: Numéro de séquence | B48: Alphanumérique | C48: F | D48: Nombre de l’ordre des « cues » (pas nécessairement l’ordre de la musique utilisée)
A49: Titre de la musique | B49: Alphanumérique | C49: F | D49: Titre ou nom du « cue », de la chanson, de l’œuvre ou de la pièce
A50: Rôle de la partie musicale intéressée | B50: Alphanumérique | C50: O | D50: Parties intéressées dans l’œuvre musicale : Auteur, parolier, etc.
A51: Nom de la partie musicale intéressée | B51: Alphanumérique | C51: O | D51: Nom du compositeur, de l’auteur, de l’éditeur, etc.
A52: Société d’affiliation | B52: CISAC 3 Code caractère | C52: F | D52: Société des parties intéressées, par exemple le compositeur, l’auteur, l’arrangeur, l’éditeur, etc. (obligatoire pour les sociétés)
A53: Numéro IPI | B53: Numéro à 11 chiffres | C53: F | D53: Le numéro du nom IPI assigné au compositeur, à l’auteur, à l’arrangeur, à l’éditeur, etc. (obligatoire pour les sociétés)
A54: Durée de la musique | B54: Durée HHMMSS | C54: O | D54: Durée de l’œuvre musicale exprimée en heures, minutes et secondes
A55: Début | B55: Durée HHMMSS | C55: F | D55: Moment où l’œuvre musicale débute
A56: Fin | B56: Durée HHMMSS | C56: F | D56: Moment où l’œuvre musicale se termine
A57: % de parts des parties musicales intéressées | B57: 001.00 à 100.00 | C57: C | D57: Pourcentage de la musique contrôlé par compositeurs 50 % parts et l’éditeur 50 % parts Obligatoire pour les compagnies de production américaines s’il s’agit d’une commande (obligatoire pour les sociétés)
A58: Source de la musique | B58: Alphanumérique | C58: O | D58: Source de l’œuvre musicale. Commande = originale = œuvre réalisée contre rémunération
...

Sheet Drop Down Menu and values
A1: Harmonized Cue sheet drop down fields and their values
A3: Upper portion of the Harmonized Cue sheet
A5: Field | B5: Drop Down Values
A7: Cue Sheet Classification | B7: Original
B8: Revision
B9: Draft
A11: Production Type | B11: Not A Series
B12: Series
A14: Production Category | B14: Animation, Cartoon
B15: Commercials
B16: Documentary
B17: Feature Film, Theatrical, TV Movie, Movie
B18: Infomercial, Paid Program
B19: Mini-Series
B20: Multimedia
B21: News
B22: One Offs, Non Series
B23: Other
B24: Reality
B25: TV Series, Cable Series etc
B26: Soap Opera, Tele-Novelas
... B29: Trailers
A31: Version | B31: Yes
B32: No
A34: Version Category | B34: 3-D
B35: Airline
B36: App
B37: Black and White
B38: Cable
B39: Color
B40: Director's Cut
B41: Digital Service Provider
B42: Domestic
B43: Home Video
B44: Internet
B45: International
B46: Long
... B57: Theme Park
A59: Version Territory/Country | B59: CANADA
B60: USA
...

Sheet Tables
A1: AV Work IP Role
A3: Actor
A4: Author of Screenplay
A5: Author of Sub-Titles
A6: Director
A7: Director of Photography
A8: Distributor
A9: Editor
A10: Producer
A11: Production Company
A12: Sound Engineer
A14: Cue Sheet Classification
... A25: Cue Usage
A27: Background | B27: {=_xlfn._xlws.SORT(_xlfn._xlws.FILTER(A27:A31,ISNUMBER(SEARCH(B5,A27:A31)),"Not Found"))} -> Background
A28: Closing Theme | B28: Closing Theme
A29: Featured/Visual | B29: Featured/Visual
A30: Opening Theme | B30: Logo
A31: Logo | B31: Opening Theme
A33: Origin
A35: Specially Commissioned
A36: Library/Production
A37: Pre-existing
A38: Unspecified
A40: Version Category
A42: 3-D
A43: Airline
A44: App
A45: Black and White
A46: Cable
A47: Color
... A770: 099
A771: 001 | C771: Israel
A772: 002 | C772: Brazil
A773: 003 | C773: Greece
A774: 004 | C774: Uruguay
A775: 005 | C775: Austria
A776: 007 | C776: Peru
A777: 008 | C777: Australia
A778: 009 | C778: Hungary
A779: 010 | C779: USA
...
